Package: TFBSTools Version: 1.45.1 Command: chmod a+r TFBSTools -R && E:\biocbuild\bbs-3.21-bioc\R\bin\R.exe CMD build --keep-empty-dirs --no-resave-data TFBSTools StartedAt: 2025-02-05 22:10:53 -0500 (Wed, 05 Feb 2025) EndedAt: 2025-02-05 22:13:20 -0500 (Wed, 05 Feb 2025) EllapsedTime: 146.8 seconds RetCode: 0 Status: OK PackageFile: TFBSTools_1.45.1.tar.gz PackageFileSize: 548.2 KiB