Package: TFBSTools Version: 1.45.1 Command: /home/biocbuild/bbs-3.21-bioc/R/bin/R CMD INSTALL TFBSTools StartedAt: 2025-02-05 15:50:11 -0500 (Wed, 05 Feb 2025) EndedAt: 2025-02-05 15:51:03 -0500 (Wed, 05 Feb 2025) EllapsedTime: 52.0 seconds RetCode: 0 Status: OK