Package: TFBSTools Version: 1.45.1 Command: /home/biocbuild/bbs-3.21-bioc/R/bin/R CMD check --install=check:TFBSTools.install-out.txt --library=/home/biocbuild/bbs-3.21-bioc/R/site-library --timings TFBSTools_1.45.1.tar.gz StartedAt: 2025-02-06 03:21:18 -0500 (Thu, 06 Feb 2025) EndedAt: 2025-02-06 03:28:26 -0500 (Thu, 06 Feb 2025) EllapsedTime: 428.6 seconds RetCode: 0 Status: OK CheckDir: TFBSTools.Rcheck Warnings: 0