Package: TFBSTools Version: 1.45.1 Command: /home/biocbuild/bbs-3.21-bioc/R/bin/R CMD build --keep-empty-dirs --no-resave-data TFBSTools StartedAt: 2025-02-05 19:34:55 -0500 (Wed, 05 Feb 2025) EndedAt: 2025-02-05 19:36:15 -0500 (Wed, 05 Feb 2025) EllapsedTime: 80.3 seconds RetCode: 0 Status: OK PackageFile: TFBSTools_1.45.1.tar.gz PackageFileSize: 583.9 KiB