Package: TFBSTools Version: 1.45.1 Command: /Library/Frameworks/R.framework/Resources/bin/R CMD INSTALL TFBSTools StartedAt: 2025-02-05 15:19:32 -0500 (Wed, 05 Feb 2025) EndedAt: 2025-02-05 15:20:51 -0500 (Wed, 05 Feb 2025) EllapsedTime: 79.6 seconds RetCode: 0 Status: OK