Package: TFBSTools Version: 1.45.1 Command: /home/biocbuild/R/R/bin/R CMD INSTALL TFBSTools StartedAt: 2025-01-29 19:55:31 -0000 (Wed, 29 Jan 2025) EndedAt: 2025-01-29 19:56:42 -0000 (Wed, 29 Jan 2025) EllapsedTime: 71.3 seconds RetCode: 0 Status: OK