Package: TFBSTools Version: 1.45.1 Command: /Library/Frameworks/R.framework/Resources/bin/R CMD INSTALL TFBSTools StartedAt: 2025-02-05 15:10:56 -0500 (Wed, 05 Feb 2025) EndedAt: 2025-02-05 15:11:17 -0500 (Wed, 05 Feb 2025) EllapsedTime: 20.9 seconds RetCode: 0 Status: OK