Package: TFBSTools Version: 1.45.1 Command: /Library/Frameworks/R.framework/Resources/bin/R CMD build --keep-empty-dirs --no-resave-data TFBSTools StartedAt: 2025-02-05 17:50:38 -0500 (Wed, 05 Feb 2025) EndedAt: 2025-02-05 17:51:11 -0500 (Wed, 05 Feb 2025) EllapsedTime: 32.4 seconds RetCode: 0 Status: OK PackageFile: TFBSTools_1.45.1.tar.gz PackageFileSize: 1.044 MiB