Package: TFBSTools Version: 1.45.1 Command: rm -rf TFBSTools.buildbin-libdir && mkdir TFBSTools.buildbin-libdir && /Users/biocbuild/BBS/utils/build-universal.sh TFBSTools_1.45.1.tar.gz /Library/Frameworks/R.framework/Resources/bin/R TFBSTools.buildbin-libdir StartedAt: 2025-02-10 22:35:09 -0500 (Mon, 10 Feb 2025) EndedAt: 2025-02-10 22:35:32 -0500 (Mon, 10 Feb 2025) EllapsedTime: 22.6 seconds RetCode: 0 Status: OK PackageFile: TFBSTools_1.45.1.tgz PackageFileSize: 2.102 MiB