Package: TFARM Version: 1.31.0 Command: /home/biocbuild/bbs-3.22-bioc/R/bin/R CMD INSTALL TFARM StartedAt: 2025-09-29 15:26:31 -0400 (Mon, 29 Sep 2025) EndedAt: 2025-09-29 15:26:50 -0400 (Mon, 29 Sep 2025) EllapsedTime: 19.7 seconds RetCode: 0 Status: OK