Package: TFARM Version: 1.31.0 Command: /Library/Frameworks/R.framework/Resources/bin/R CMD check --install=check:TFARM.install-out.txt --library=/Library/Frameworks/R.framework/Resources/library --no-vignettes --timings TFARM_1.31.0.tar.gz StartedAt: 2025-05-27 23:50:15 -0400 (Tue, 27 May 2025) EndedAt: 2025-05-27 23:52:20 -0400 (Tue, 27 May 2025) EllapsedTime: 125.2 seconds RetCode: 0 Status: OK CheckDir: TFARM.Rcheck Warnings: 0