Package: TFARM Version: 1.31.0 Command: /Library/Frameworks/R.framework/Resources/bin/R CMD build --keep-empty-dirs --no-resave-data TFARM StartedAt: 2025-05-27 18:34:03 -0400 (Tue, 27 May 2025) EndedAt: 2025-05-27 18:36:00 -0400 (Tue, 27 May 2025) EllapsedTime: 116.9 seconds RetCode: 0 Status: OK PackageFile: TFARM_1.31.0.tar.gz PackageFileSize: 470.5 KiB