Package: TENxIO Version: 1.11.5 Command: chmod a+r TENxIO -R && F:\biocbuild\bbs-3.22-bioc\R\bin\R.exe CMD build --keep-empty-dirs --no-resave-data TENxIO StartedAt: 2025-08-14 23:43:30 -0400 (Thu, 14 Aug 2025) EndedAt: 2025-08-14 23:44:32 -0400 (Thu, 14 Aug 2025) EllapsedTime: 62.5 seconds RetCode: 0 Status: OK PackageFile: TENxIO_1.11.5.tar.gz PackageFileSize: 256.7 KiB