Package: TENxIO Version: 1.11.5 Command: rm -rf TENxIO.buildbin-libdir && mkdir TENxIO.buildbin-libdir && F:\biocbuild\bbs-3.22-bioc\R\bin\R.exe CMD INSTALL --build --library=TENxIO.buildbin-libdir TENxIO_1.11.5.tar.gz StartedAt: 2025-08-15 11:28:50 -0400 (Fri, 15 Aug 2025) EndedAt: 2025-08-15 11:29:34 -0400 (Fri, 15 Aug 2025) EllapsedTime: 44.7 seconds RetCode: 0 Status: OK PackageFile: TENxIO_1.11.5.zip PackageFileSize: 584.3 KiB