Package: TENxIO Version: 1.9.3 Command: /home/biocbuild/R/R/bin/R CMD check --install=check:TENxIO.install-out.txt --library=/home/biocbuild/R/R/site-library --no-vignettes --timings TENxIO_1.9.3.tar.gz StartedAt: 2025-01-11 11:56:25 -0000 (Sat, 11 Jan 2025) EndedAt: 2025-01-11 12:00:55 -0000 (Sat, 11 Jan 2025) EllapsedTime: 269.5 seconds RetCode: 0 Status: OK CheckDir: TENxIO.Rcheck Warnings: 0