Package: TENET Version: 1.1.90 Command: /home/biocbuild/bbs-3.22-bioc/R/bin/R CMD INSTALL TENET StartedAt: 2025-10-23 15:35:24 -0400 (Thu, 23 Oct 2025) EndedAt: 2025-10-23 15:36:01 -0400 (Thu, 23 Oct 2025) EllapsedTime: 37.5 seconds RetCode: 0 Status: OK