Package: TENET Version: 1.1.90 Command: /home/biocbuild/bbs-3.22-bioc/R/bin/R CMD build --keep-empty-dirs --no-resave-data --md5 TENET StartedAt: 2025-10-23 20:31:12 -0400 (Thu, 23 Oct 2025) EndedAt: 2025-10-23 20:49:55 -0400 (Thu, 23 Oct 2025) EllapsedTime: 1123.3 seconds RetCode: 0 Status: OK PackageFile: TENET_1.1.90.tar.gz PackageFileSize: 1.767 MiB