Package: TENET Version: 1.3.0 Command: /Library/Frameworks/R.framework/Resources/bin/R CMD build --keep-empty-dirs --no-resave-data TENET StartedAt: 2025-11-18 18:04:45 -0500 (Tue, 18 Nov 2025) EndedAt: 2025-11-18 18:13:59 -0500 (Tue, 18 Nov 2025) EllapsedTime: 553.4 seconds RetCode: 0 Status: OK PackageFile: TENET_1.3.0.tar.gz PackageFileSize: 2.108 MiB