Package: TENET Version: 1.3.0 Command: rm -rf TENET.buildbin-libdir && mkdir TENET.buildbin-libdir && /Users/biocbuild/BBS/utils/build-universal.sh TENET_1.3.0.tar.gz /Library/Frameworks/R.framework/Resources/bin/R TENET.buildbin-libdir StartedAt: 2025-11-19 23:55:58 -0500 (Wed, 19 Nov 2025) EndedAt: 2025-11-19 23:56:16 -0500 (Wed, 19 Nov 2025) EllapsedTime: 18.4 seconds RetCode: 0 Status: OK PackageFile: TENET_1.3.0.tgz PackageFileSize: 2.547 MiB