Package: TEKRABber Version: 1.14.0 Command: /home/biocbuild/bbs-3.22-bioc/R/bin/R CMD INSTALL TEKRABber StartedAt: 2025-10-29 21:47:44 -0400 (Wed, 29 Oct 2025) EndedAt: 2025-10-29 21:48:25 -0400 (Wed, 29 Oct 2025) EllapsedTime: 41.4 seconds RetCode: 0 Status: OK