Package: TEKRABber Version: 1.14.0 Command: /home/biocbuild/bbs-3.22-bioc/R/bin/R CMD build --keep-empty-dirs --no-resave-data --md5 TEKRABber StartedAt: 2025-10-30 02:53:32 -0400 (Thu, 30 Oct 2025) EndedAt: 2025-10-30 02:55:28 -0400 (Thu, 30 Oct 2025) EllapsedTime: 116.4 seconds RetCode: 0 Status: OK PackageFile: TEKRABber_1.14.0.tar.gz PackageFileSize: 3.441 MiB