Package: TDbasedUFEadv Version: 1.9.1 Command: chmod a+r TDbasedUFEadv -R && F:\biocbuild\bbs-3.22-bioc\R\bin\R.exe CMD build --keep-empty-dirs --no-resave-data TDbasedUFEadv StartedAt: 2025-08-14 23:43:07 -0400 (Thu, 14 Aug 2025) EndedAt: 2025-08-14 23:47:23 -0400 (Thu, 14 Aug 2025) EllapsedTime: 256.2 seconds RetCode: 0 Status: OK PackageFile: TDbasedUFEadv_1.9.1.tar.gz PackageFileSize: 2.577 MiB