Package: TDbasedUFEadv Version: 1.9.1 Command: rm -rf TDbasedUFEadv.buildbin-libdir && mkdir TDbasedUFEadv.buildbin-libdir && /Users/biocbuild/BBS/utils/build-universal.sh TDbasedUFEadv_1.9.1.tar.gz /Library/Frameworks/R.framework/Resources/bin/R TDbasedUFEadv.buildbin-libdir StartedAt: 2025-10-01 02:11:06 -0400 (Wed, 01 Oct 2025) EndedAt: 2025-10-01 02:11:48 -0400 (Wed, 01 Oct 2025) EllapsedTime: 41.9 seconds RetCode: 0 Status: OK PackageFile: TDbasedUFEadv_1.9.1.tgz PackageFileSize: 3.51 MiB