Package: TDbasedUFE Version: 1.7.0 Command: /home/biocbuild/R/R/bin/R CMD build --keep-empty-dirs --no-resave-data TDbasedUFE StartedAt: 2025-01-28 02:52:59 -0000 (Tue, 28 Jan 2025) EndedAt: 2025-01-28 02:53:43 -0000 (Tue, 28 Jan 2025) EllapsedTime: 43.0 seconds RetCode: 0 Status: OK PackageFile: TDbasedUFE_1.7.0.tar.gz PackageFileSize: 1.039 MiB