Package: TCseq Version: 1.33.0 Command: /Library/Frameworks/R.framework/Resources/bin/R CMD build --keep-empty-dirs --no-resave-data TCseq StartedAt: 2025-05-02 18:38:56 -0400 (Fri, 02 May 2025) EndedAt: 2025-05-02 18:39:47 -0400 (Fri, 02 May 2025) EllapsedTime: 51.3 seconds RetCode: 0 Status: OK PackageFile: TCseq_1.33.0.tar.gz PackageFileSize: 1.114 MiB