Package: TCseq Version: 1.33.0 Command: rm -rf TCseq.buildbin-libdir && mkdir TCseq.buildbin-libdir && /Users/biocbuild/BBS/utils/build-universal.sh TCseq_1.33.0.tar.gz /Library/Frameworks/R.framework/Resources/bin/R TCseq.buildbin-libdir StartedAt: 2025-05-03 01:10:19 -0400 (Sat, 03 May 2025) EndedAt: 2025-05-03 01:11:01 -0400 (Sat, 03 May 2025) EllapsedTime: 41.8 seconds RetCode: 0 Status: OK PackageFile: TCseq_1.33.0.tgz PackageFileSize: 828.5 KiB