Package: TCseq Version: 1.33.0 Command: /Library/Frameworks/R.framework/Resources/bin/R CMD check --install=check:TCseq.install-out.txt --library=/Library/Frameworks/R.framework/Resources/library --no-vignettes --timings TCseq_1.33.0.tar.gz StartedAt: 2025-05-06 22:24:01 -0400 (Tue, 06 May 2025) EndedAt: 2025-05-06 22:25:38 -0400 (Tue, 06 May 2025) EllapsedTime: 97.3 seconds RetCode: 0 Status: WARNINGS CheckDir: TCseq.Rcheck Warnings: 1