Package: TCseq Version: 1.33.0 Command: /Library/Frameworks/R.framework/Resources/bin/R CMD build --keep-empty-dirs --no-resave-data TCseq StartedAt: 2025-05-06 17:54:08 -0400 (Tue, 06 May 2025) EndedAt: 2025-05-06 17:54:30 -0400 (Tue, 06 May 2025) EllapsedTime: 22.3 seconds RetCode: 0 Status: OK PackageFile: TCseq_1.33.0.tar.gz PackageFileSize: 1.114 MiB