Package: TCGAutils Version: 1.29.5 Command: /home/biocbuild/R/R/bin/R CMD INSTALL TCGAutils StartedAt: 2025-10-06 21:03:42 -0000 (Mon, 06 Oct 2025) EndedAt: 2025-10-06 21:04:30 -0000 (Mon, 06 Oct 2025) EllapsedTime: 48.3 seconds RetCode: 0 Status: OK