Package: TCGAutils Version: 1.29.5 Command: /home/biocbuild/R/R/bin/R CMD build --keep-empty-dirs --no-resave-data TCGAutils StartedAt: 2025-10-07 03:28:14 -0000 (Tue, 07 Oct 2025) EndedAt: 2025-10-07 03:30:26 -0000 (Tue, 07 Oct 2025) EllapsedTime: 132.1 seconds RetCode: 1 Status: ERROR PackageFile: None PackageFileSize: NA