Package: TCGAbiolinks Version: 2.37.3 Command: rm -rf TCGAbiolinks.buildbin-libdir && mkdir TCGAbiolinks.buildbin-libdir && /Users/biocbuild/BBS/utils/build-universal.sh TCGAbiolinks_2.37.3.tar.gz /Library/Frameworks/R.framework/Resources/bin/R TCGAbiolinks.buildbin-libdir StartedAt: 2025-10-14 23:40:56 -0400 (Tue, 14 Oct 2025) EndedAt: 2025-10-14 23:41:22 -0400 (Tue, 14 Oct 2025) EllapsedTime: 25.5 seconds RetCode: 0 Status: OK PackageFile: TCGAbiolinks_2.37.3.tgz PackageFileSize: 68.01 MiB