Package: TCC Version: 1.49.1 Command: rm -rf TCC.buildbin-libdir && mkdir TCC.buildbin-libdir && F:\biocbuild\bbs-3.22-bioc\R\bin\R.exe CMD INSTALL --build --library=TCC.buildbin-libdir TCC_1.49.1.tar.gz StartedAt: 2025-08-15 11:28:24 -0400 (Fri, 15 Aug 2025) EndedAt: 2025-08-15 11:29:09 -0400 (Fri, 15 Aug 2025) EllapsedTime: 44.5 seconds RetCode: 0 Status: OK PackageFile: TCC_1.49.1.zip PackageFileSize: 1.709 MiB