Package: TBSignatureProfiler Version: 1.21.2 Command: rm -rf TBSignatureProfiler.buildbin-libdir && mkdir TBSignatureProfiler.buildbin-libdir && F:\biocbuild\bbs-3.22-bioc\R\bin\R.exe CMD INSTALL --build --library=TBSignatureProfiler.buildbin-libdir TBSignatureProfiler_1.21.2.tar.gz StartedAt: 2025-08-15 11:28:21 -0400 (Fri, 15 Aug 2025) EndedAt: 2025-08-15 11:29:26 -0400 (Fri, 15 Aug 2025) EllapsedTime: 65.3 seconds RetCode: 0 Status: OK PackageFile: TBSignatureProfiler_1.21.2.zip PackageFileSize: 3.355 MiB