Package: TAPseq Version: 1.21.0 Command: rm -rf TAPseq.buildbin-libdir && mkdir TAPseq.buildbin-libdir && F:\biocbuild\bbs-3.22-bioc\R\bin\R.exe CMD INSTALL --build --library=TAPseq.buildbin-libdir TAPseq_1.21.0.tar.gz StartedAt: 2025-08-15 11:28:01 -0400 (Fri, 15 Aug 2025) EndedAt: 2025-08-15 11:29:37 -0400 (Fri, 15 Aug 2025) EllapsedTime: 96.3 seconds RetCode: 0 Status: OK PackageFile: TAPseq_1.21.0.zip PackageFileSize: 2.882 MiB