Package: SynMut Version: 1.23.0 Command: chmod a+r SynMut -R && E:\biocbuild\bbs-3.21-bioc\R\bin\R.exe CMD build --keep-empty-dirs --no-resave-data SynMut StartedAt: 2025-02-03 22:13:26 -0500 (Mon, 03 Feb 2025) EndedAt: 2025-02-03 22:14:05 -0500 (Mon, 03 Feb 2025) EllapsedTime: 39.8 seconds RetCode: 0 Status: OK PackageFile: SynMut_1.23.0.tar.gz PackageFileSize: 104.6 KiB