Package: SynMut Version: 1.25.0 Command: /home/biocbuild/bbs-3.22-bioc/R/bin/R CMD INSTALL SynMut StartedAt: 2025-09-29 15:16:36 -0400 (Mon, 29 Sep 2025) EndedAt: 2025-09-29 15:16:51 -0400 (Mon, 29 Sep 2025) EllapsedTime: 14.4 seconds RetCode: 0 Status: OK