Package: SynMut Version: 1.23.0 Command: /home/biocbuild/bbs-3.21-bioc/R/bin/R CMD INSTALL SynMut StartedAt: 2025-02-03 15:25:32 -0500 (Mon, 03 Feb 2025) EndedAt: 2025-02-03 15:25:43 -0500 (Mon, 03 Feb 2025) EllapsedTime: 11.1 seconds RetCode: 0 Status: OK