Package: SynMut Version: 1.23.0 Command: /home/biocbuild/bbs-3.21-bioc/R/bin/R CMD check --install=check:SynMut.install-out.txt --library=/home/biocbuild/bbs-3.21-bioc/R/site-library --timings SynMut_1.23.0.tar.gz StartedAt: 2025-02-06 03:16:40 -0500 (Thu, 06 Feb 2025) EndedAt: 2025-02-06 03:18:07 -0500 (Thu, 06 Feb 2025) EllapsedTime: 86.1 seconds RetCode: 0 Status: OK CheckDir: SynMut.Rcheck Warnings: 0