Package: SynMut Version: 1.23.0 Command: /home/biocbuild/bbs-3.21-bioc/R/bin/R CMD build --keep-empty-dirs --no-resave-data SynMut StartedAt: 2025-02-03 19:41:05 -0500 (Mon, 03 Feb 2025) EndedAt: 2025-02-03 19:41:22 -0500 (Mon, 03 Feb 2025) EllapsedTime: 17.0 seconds RetCode: 0 Status: OK PackageFile: SynMut_1.23.0.tar.gz PackageFileSize: 104.8 KiB