Package: SynMut Version: 1.23.0 Command: rm -rf SynMut.buildbin-libdir && mkdir SynMut.buildbin-libdir && /Users/biocbuild/BBS/utils/build-universal.sh SynMut_1.23.0.tar.gz /Library/Frameworks/R.framework/Resources/bin/R SynMut.buildbin-libdir StartedAt: 2025-02-03 00:48:30 -0500 (Mon, 03 Feb 2025) EndedAt: 2025-02-03 00:48:49 -0500 (Mon, 03 Feb 2025) EllapsedTime: 18.5 seconds RetCode: 0 Status: OK PackageFile: SynMut_1.23.0.tgz PackageFileSize: 317.7 KiB