Package: SynMut Version: 1.23.0 Maintainer: Haogao Gu MaintainerEmail: hggu at connect.hku.hk git_url: https://git.bioconductor.org/packages/SynMut git_branch: devel git_last_commit: 460f815 git_last_commit_date: 2024-10-29 10:37:11 -0500 (Tue, 29 Oct 2024)