Package: SynExtend Version: 1.21.2 Command: /home/biocbuild/R/R/bin/R CMD INSTALL SynExtend StartedAt: 2025-10-20 20:48:32 -0000 (Mon, 20 Oct 2025) EndedAt: 2025-10-20 20:49:10 -0000 (Mon, 20 Oct 2025) EllapsedTime: 37.4 seconds RetCode: 0 Status: OK