Package: SynExtend Version: 1.21.2 Command: /home/biocbuild/R/R/bin/R CMD build --keep-empty-dirs --no-resave-data SynExtend StartedAt: 2025-10-21 03:37:39 -0000 (Tue, 21 Oct 2025) EndedAt: 2025-10-21 03:39:16 -0000 (Tue, 21 Oct 2025) EllapsedTime: 97.0 seconds RetCode: 0 Status: OK PackageFile: SynExtend_1.21.2.tar.gz PackageFileSize: 3.097 MiB