Package: SynExtend Version: 1.19.0 Command: E:\biocbuild\bbs-3.21-bioc\R\bin\R.exe CMD check --no-multiarch --install=check:SynExtend.install-out.txt --library=E:\biocbuild\bbs-3.21-bioc\R\library --no-vignettes --timings SynExtend_1.19.0.tar.gz StartedAt: 2025-01-11 06:07:23 -0500 (Sat, 11 Jan 2025) EndedAt: 2025-01-11 06:18:38 -0500 (Sat, 11 Jan 2025) EllapsedTime: 675.4 seconds RetCode: 0 Status: OK CheckDir: SynExtend.Rcheck Warnings: 0