Package: SwathXtend Version: 2.31.0 Command: /home/biocbuild/bbs-3.22-bioc/R/bin/R CMD INSTALL SwathXtend StartedAt: 2025-10-21 15:06:53 -0400 (Tue, 21 Oct 2025) EndedAt: 2025-10-21 15:07:10 -0400 (Tue, 21 Oct 2025) EllapsedTime: 17.7 seconds RetCode: 0 Status: OK