Package: SwathXtend Version: 2.31.0 Command: /home/biocbuild/bbs-3.22-bioc/R/bin/R CMD build --keep-empty-dirs --no-resave-data --md5 SwathXtend StartedAt: 2025-10-21 20:25:13 -0400 (Tue, 21 Oct 2025) EndedAt: 2025-10-21 20:28:17 -0400 (Tue, 21 Oct 2025) EllapsedTime: 184.2 seconds RetCode: 0 Status: OK PackageFile: SwathXtend_2.31.0.tar.gz PackageFileSize: 346.5 MiB