Package: SurfR Version: 1.5.2 Command: /home/biocbuild/bbs-3.22-bioc/R/bin/R CMD build --keep-empty-dirs --no-resave-data --md5 SurfR StartedAt: 2025-10-06 20:22:35 -0400 (Mon, 06 Oct 2025) EndedAt: 2025-10-06 20:23:17 -0400 (Mon, 06 Oct 2025) EllapsedTime: 42.0 seconds RetCode: 0 Status: OK PackageFile: SurfR_1.5.2.tar.gz PackageFileSize: 374.3 KiB