Package: SurfR Version: 1.5.0 Command: /Library/Frameworks/R.framework/Resources/bin/R CMD build --keep-empty-dirs --no-resave-data SurfR StartedAt: 2025-05-06 17:51:57 -0400 (Tue, 06 May 2025) EndedAt: 2025-05-06 17:52:19 -0400 (Tue, 06 May 2025) EllapsedTime: 22.2 seconds RetCode: 0 Status: OK PackageFile: SurfR_1.5.0.tar.gz PackageFileSize: 372.7 KiB