Package: SuperCellCyto Version: 1.1.0 Command: /home/biocbuild/bbs-3.23-bioc/R/bin/R CMD build --keep-empty-dirs --no-resave-data SuperCellCyto StartedAt: 2025-11-20 20:24:36 -0500 (Thu, 20 Nov 2025) EndedAt: 2025-11-20 20:26:22 -0500 (Thu, 20 Nov 2025) EllapsedTime: 106.1 seconds RetCode: 0 Status: OK PackageFile: SuperCellCyto_1.1.0.tar.gz PackageFileSize: 4.383 MiB