Package: Summix Version: 2.15.0 Command: /home/biocbuild/bbs-3.22-bioc/R/bin/R CMD INSTALL Summix StartedAt: 2025-10-03 15:07:50 -0400 (Fri, 03 Oct 2025) EndedAt: 2025-10-03 15:08:01 -0400 (Fri, 03 Oct 2025) EllapsedTime: 10.7 seconds RetCode: 0 Status: OK